BEGIN:VCALENDAR
VERSION:2.0
PRODID:-//eventon.com NONSGML v1.0//EN
CALSCALE:GREGORIAN
METHOD:PUBLISH
BEGIN:VEVENT
UID:69ea99886807d
DTSTAMP:20260423T221328Z
DTSTART:20260411T200000Z
DTEND:20260411T210000Z
LOCATION:
SUMMARY:Contes clàsics
DESCRIPTION:Contes clàsics Día: 11 de abril\,  sábado Hora: 11:00h Lugar
 : Detroit Llibres CUENTOS (val)\nhttps://quefas.es/events/nenicxs-detroit-s
 abados/
URL:https://quefas.es/events/nenicxs-detroit-sabados/
END:VEVENT
END:VCALENDAR