BEGIN:VCALENDAR
VERSION:2.0
PRODID:-//eventon.com NONSGML v1.0//EN
CALSCALE:GREGORIAN
METHOD:PUBLISH
BEGIN:VEVENT
UID:69e5f0b568603
DTSTAMP:20260420T092405Z
DTSTART:20250222T050000Z
DTEND:20250222T063000Z
LOCATION:
SUMMARY:SPRINT POÉTICO
DESCRIPTION:SPRINT POÉTICO: Armanda Gorman Día: 21 y 22 de febrero\,  Hor
 a: 19.00h Lugar: KAKV (Villena) POESÍA Entrada libre POESÍA Sprint Poéti
 co Un taller intensivo de voz e interpretación poética dirigido a jóvene
 s que quieran iniciarse en este arte. El taller estará dirigido por Ana Va
 ldés\,  Andrés Leal\,  Jordi Gandía y[..]\nhttps://quefas.es/events/poes
 ia-kakv-villena/
URL:https://quefas.es/events/poesia-kakv-villena/
END:VEVENT
END:VCALENDAR