BEGIN:VCALENDAR
VERSION:2.0
PRODID:-//eventon.com NONSGML v1.0//EN
CALSCALE:GREGORIAN
METHOD:PUBLISH
BEGIN:VEVENT
UID:69e8103eae2ef
DTSTAMP:20260422T000310Z
DTSTART:20260404T053000Z
DTEND:20260404T085500Z
LOCATION:
SUMMARY:Santa Mistela
DESCRIPTION:Santa Mistela Días 03 y 04 de abril Hora: 20.30h Lugar: Ocho y
  Medio (Alicante) Entradas: 10€ Hay festivales que nacen como estrategia.
  Y otros que simplemente ocurren porque\,  si no\,  algo dentro revienta. S
 anta Mistela pertenece claramente a esta segunda categoría: un nuevo encue
 ntro musical en Alicante que abraza[..]\nhttps://quefas.es/events/ochoymedi
 o-concierto/
URL:https://quefas.es/events/ochoymedio-concierto/
END:VEVENT
END:VCALENDAR