BEGIN:VCALENDAR
VERSION:2.0
PRODID:-//eventon.com NONSGML v1.0//EN
CALSCALE:GREGORIAN
METHOD:PUBLISH
BEGIN:VEVENT
UID:69ea567adbf9c
DTSTAMP:20260423T172722Z
DTSTART:20260314T033000Z
DTEND:20260314T050000Z
LOCATION:
SUMMARY:Estampida
DESCRIPTION:Estampida – TEATRO – 13 de marzo\,  viernes – 18:30h –
  Centro Social Garbinet “Rosario Sansano” (Alicante) – +3 – Entrada
  con inscripción previa. Próximamente: Concierto Big Band SCD Carolinas 
 – MÚSICA – 24 de abril\,  viernes – 18:30h – Centro Social Garbine
 t “Rosario Sansano” (Alicante) – +10 – Entrada con inscripción[..]
 \nhttps://quefas.es/events/cultura-en-barrios-garbinet/
URL:https://quefas.es/events/cultura-en-barrios-garbinet/
END:VEVENT
END:VCALENDAR