BEGIN:VCALENDAR
VERSION:2.0
PRODID:-//eventon.com NONSGML v1.0//EN
CALSCALE:GREGORIAN
METHOD:PUBLISH
BEGIN:VEVENT
UID:69eac5504bd7f
DTSTAMP:20260424T012016Z
DTSTART:20260321T033000Z
DTEND:20260321T045000Z
LOCATION:
SUMMARY:Cultura en Barrios - En el CS Playas
DESCRIPTION:El hechizo del dragón&nbsp;– TEATRO – 20 de marzo\,  viern
 es – 18:30h – Centro Social Playas (Alicante) – +6 – Entrada con in
 scripción previa. Siguientes obras programadas: Trenzando cuentos&nbsp;–
  TEATRO – 8 de mayo\,  viernes – 18:30h – Centro Social Playas (Alica
 nte) – +3 – Entrada con inscripción previa. ¡Cántame[..]\nhttps://qu
 efas.es/events/cultura-en-barrios-playas/
URL:https://quefas.es/events/cultura-en-barrios-playas/
END:VEVENT
END:VCALENDAR