BEGIN:VCALENDAR
VERSION:2.0
PRODID:-//eventon.com NONSGML v1.0//EN
CALSCALE:GREGORIAN
METHOD:PUBLISH
BEGIN:VEVENT
UID:69ea9a0a1b0bd
DTSTAMP:20260423T221538Z
DTSTART:20260423T023000Z
DTEND:20260423T033000Z
LOCATION:
SUMMARY:Anem a la Biblio... de Plá-Carolinas
DESCRIPTION:Taller arte natura: crea tu propio separador botánico día del
  libro – TALLER – 22 de abril\,  miércoles – 17:30h – Biblioteca 
 Pla Carolinas (Alicante) – +8 – Entrada con inscripción previa. Próxi
 mamente: Taller arte natura: crea tu propio separador botánico día del li
 bro – TALLER – 23 de abril\,  jueves –[..]\nhttps://quefas.es/events
 /anem-a-la-biblioteca-pla-carolinas/
URL:https://quefas.es/events/anem-a-la-biblioteca-pla-carolinas/
END:VEVENT
END:VCALENDAR