BEGIN:VCALENDAR
VERSION:2.0
PRODID:-//eventon.com NONSGML v1.0//EN
CALSCALE:GREGORIAN
METHOD:PUBLISH
BEGIN:VEVENT
UID:69ea99eaba8d1
DTSTAMP:20260423T221506Z
DTSTART:20260304T033000Z
DTEND:20260304T043000Z
LOCATION:
SUMMARY:Anem a la Biblio de San Blas
DESCRIPTION:Cuentacuentos. Todos somos ÃºnicosÂ â€“ LETRAS â€“ 3 de marzo\,
   martes â€“ 17:30h â€“ Biblioteca San Blas (Alicante) â€“ 6 a 10 â€“ Entra
 da con inscripciÃ³n previa. PrÃ³ximamente: Cuentos con corazÃ³nÂ â€“ LETRAS
  â€“ 10 de abril\,  viernes â€“ 11:00h â€“ Biblioteca San Blas (Alicante) â
 €“ +3 â€“ Entrada con inscripciÃ³n previa.[..]\nhttps://quefas.es/events/an
 em-a-la-biblioteca-san-blas/
URL:https://quefas.es/events/anem-a-la-biblioteca-san-blas/
END:VEVENT
END:VCALENDAR