BEGIN:VCALENDAR
VERSION:2.0
PRODID:-//eventon.com NONSGML v1.0//EN
CALSCALE:GREGORIAN
METHOD:PUBLISH
BEGIN:VEVENT
UID:69e4d866731fe
DTSTAMP:20260419T132806Z
DTSTART:20260417T070000Z
DTEND:20260417T085500Z
LOCATION:
SUMMARY:Artenbitrit
DESCRIPTION:La localidad de Petrer se prepara para convertirse\,  del 16 al
  19 de abril\,  en un gran escenario abierto donde el arte toma el espacio 
 público y transforma la ciudad en una experiencia inmersiva. La XIII edici
 ón de Artenbitrir regresa con una propuesta que apuesta por la cultura sin
  barreras\, [..]\nhttps://quefas.es/events/artenbitrit/
URL:https://quefas.es/events/artenbitrit/
END:VEVENT
END:VCALENDAR