BEGIN:VCALENDAR
VERSION:2.0
PRODID:-//eventon.com NONSGML v1.0//EN
CALSCALE:GREGORIAN
METHOD:PUBLISH
BEGIN:VEVENT
UID:69e5b438b9a98
DTSTAMP:20260420T050600Z
DTSTART:20260417T043000Z
DTEND:20260417T053000Z
LOCATION:
SUMMARY:Conciertos de los jueves
DESCRIPTION:El municipio de Orihuela contará con una nueva propuesta cultu
 ral con los ‘Conciertos de los jueves’\,  una iniciativa que se desarro
 llará del 16 de abril al 31 de mayo en la plaza de San Sebastián. Esta se
 rie de conciertos al aire libre busca dinamizar la oferta musical local y a
 cercar[..]\nhttps://quefas.es/events/conciertos-de-los-jueves/
URL:https://quefas.es/events/conciertos-de-los-jueves/
END:VEVENT
END:VCALENDAR