BEGIN:VCALENDAR
VERSION:2.0
PRODID:-//eventon.com NONSGML v1.0//EN
CALSCALE:GREGORIAN
METHOD:PUBLISH
BEGIN:VEVENT
UID:69e5ca70d48cd
DTSTAMP:20260420T064048Z
DTSTART:20250524T050000Z
DTEND:20250524T070000Z
LOCATION:
SUMMARY:III Muestra de teatro de Benidorm
DESCRIPTION:La Concejalía de Cultura del Ayuntamiento de Benidorm ha prese
 ntado la tercera edición de la Muestra de Teatro\,  que se celebrará dura
 nte el próximo mes de mayo en el Centro Cultural. El programa incluirá ci
 nco representaciones\,  con la participación de una compañía profesional
  y cuatro agrupaciones amateurs formadas por vecinos[..]\nhttps://quefas.es
 /events/iii-muestra-de-teatro-de-benidorm/
URL:https://quefas.es/events/iii-muestra-de-teatro-de-benidorm/
END:VEVENT
END:VCALENDAR