BEGIN:VCALENDAR
VERSION:2.0
PRODID:-//eventon.com NONSGML v1.0//EN
CALSCALE:GREGORIAN
METHOD:PUBLISH
BEGIN:VEVENT
UID:69e696eddd209
DTSTAMP:20260420T211317Z
DTSTART:20260411T070000Z
DTEND:20260411T085500Z
LOCATION:
SUMMARY:Esta noche en Söda Bar
DESCRIPTION:Tardeos indies\,  noches alternativas\,  el SÖDA BAR es la mej
 or opción pop de la noche alicantina.\nhttps://quefas.es/events/soda-night
 /
URL:https://quefas.es/events/soda-night/
END:VEVENT
END:VCALENDAR