BEGIN:VCALENDAR
VERSION:2.0
PRODID:-//eventon.com NONSGML v1.0//EN
CALSCALE:GREGORIAN
METHOD:PUBLISH
BEGIN:VEVENT
UID:69e5ca75d1afe
DTSTAMP:20260420T064053Z
DTSTART:20260422T030000Z
DTEND:20260422T053000Z
LOCATION:
SUMMARY:Abril en Danza Dialoga + “Aura y el Demiurgo”
DESCRIPTION:Abril en Danza Dialoga + “Aura y el Demiurgo” Día: 21 de a
 bril\,  martes Hora: 18.00h (encuentro) / 19.30h (espectáculo) Lugar: Casa
  Mediterráneo (Alicante) DANZA Participan: Chantal Kohlmeyer\,  Emma Cianc
 hi\,  Caterina Giangrasso\,  Patrick Sternberg Modera: Asun Noales Precio d
 e la entrada: Gratuita (hasta completar aforo) ¿De qué va? - Dentro[..]\n
 https://quefas.es/events/danza-casa-mediterraneo/
URL:https://quefas.es/events/danza-casa-mediterraneo/
END:VEVENT
END:VCALENDAR