BEGIN:VCALENDAR
VERSION:2.0
PRODID:-//eventon.com NONSGML v1.0//EN
CALSCALE:GREGORIAN
METHOD:PUBLISH
BEGIN:VEVENT
UID:69e5f0bb5b9fd
DTSTAMP:20260420T092411Z
DTSTART:20250613T190000Z
DTEND:20250614T073000Z
LOCATION:
SUMMARY:I Salón Friky de Alicante
DESCRIPTION:I Salón Friky de Alicante con varias actividades el 13 y 14 de
  junio en Cigarreras Stands de artistas. expositores\,  talleres\,  concurs
 os y mas... Toda la información e inscripciones a concursos en https://lin
 ktr.ee/asociacionfriky\nhttps://quefas.es/events/i-salon-friky-de-alicante/
URL:https://quefas.es/events/i-salon-friky-de-alicante/
END:VEVENT
END:VCALENDAR