BEGIN:VCALENDAR
VERSION:2.0
PRODID:-//eventon.com NONSGML v1.0//EN
CALSCALE:GREGORIAN
METHOD:PUBLISH
BEGIN:VEVENT
UID:69e5b41aa6018
DTSTAMP:20260420T050530Z
DTSTART:20250618T040000Z
DTEND:20250618T053000Z
LOCATION:
SUMMARY:Vivienda e identidad en Carolines
DESCRIPTION:Diagnóstico participativo: Vivienda e identidad en Carolines\,
   en l'Hort Comunitari de Carolines(C/ Julio Antonio\,  16)M17 y X18 a las 
 19:00h\nhttps://quefas.es/events/vivienda-e-identidad-en-carolines/
URL:https://quefas.es/events/vivienda-e-identidad-en-carolines/
END:VEVENT
END:VCALENDAR