BEGIN:VCALENDAR
VERSION:2.0
PRODID:-//eventon.com NONSGML v1.0//EN
CALSCALE:GREGORIAN
METHOD:PUBLISH
BEGIN:VEVENT
UID:69e848f667e0b
DTSTAMP:20260422T040510Z
DTSTART:20250717T073000Z
DTEND:20250717T085600Z
LOCATION:
SUMMARY:Cultura a les Bassetes
DESCRIPTION:‘Cultura a les Bassetes’. Todos los miércoles\,  del 16 de
  julio al 20 de agosto\,  a las 22.30 horas\,  habrá actuaciones musicales
  y cine a la fresca en el parque de Les Bassetes. Alberto Tarín Band\,  ba
 nda liderada por el guitarrista\,  cantante y compositor Alberto Tarín\,  
 traerá su mezcla de[..]\nhttps://quefas.es/events/cultura-a-les-bassetes/
URL:https://quefas.es/events/cultura-a-les-bassetes/
END:VEVENT
END:VCALENDAR