BEGIN:VCALENDAR
VERSION:2.0
PRODID:-//eventon.com NONSGML v1.0//EN
CALSCALE:GREGORIAN
METHOD:PUBLISH
BEGIN:VEVENT
UID:69ea99a048ecd
DTSTAMP:20260423T221352Z
DTSTART:20260504T100000Z
DTEND:20260504T133000Z
LOCATION:
SUMMARY:IX Certamen escolar de Teatro Grecolatino
DESCRIPTION:El Paraninfo de la Universidad de Alicante acogerá&nbsp;del&nb
 sp;4 al 6 de mayo de 2026&nbsp;una nueva edición del&nbsp;Certamen Escolar
  de Teatro Grecolatino\,  una iniciativa que acerca el teatro clásico al a
 lumnado de secundaria a través de la representación escénica. Organizado
  por la Universidad de Alicante\,  el certamen alcanza su&nbsp;novena edici
 ón\,  consolidándose[..]\nhttps://quefas.es/events/vii-certamen-escolar-d
 e-teatro-grecolatino/
URL:https://quefas.es/events/vii-certamen-escolar-de-teatro-grecolatino/
END:VEVENT
END:VCALENDAR