BEGIN:VCALENDAR
VERSION:2.0
PRODID:-//eventon.com NONSGML v1.0//EN
CALSCALE:GREGORIAN
METHOD:PUBLISH
BEGIN:VEVENT
UID:69e666b3c3337
DTSTAMP:20260420T174731Z
DTSTART:20250629T043000Z
DTEND:20250629T053000Z
LOCATION:
SUMMARY:Leonardo
DESCRIPTION:El próximo&nbsp;sábado 28 de junio a las 19:30 horas&nbsp;ten
 drá lugar en la&nbsp;Caja Negra del centro cultural Las Cigarreras (Alican
 te)&nbsp;el estreno oficial de&nbsp;LEONARDO\,  el último cortometraje dir
 igido por los alicantinos&nbsp;Meka Ribera y Álvaro G. Company. La premier
 e contará con la presencia de los directores y parte del equipo. 1 2 3[..]
 \nhttps://quefas.es/events/leonardo/
URL:https://quefas.es/events/leonardo/
END:VEVENT
END:VCALENDAR