BEGIN:VCALENDAR
VERSION:2.0
PRODID:-//eventon.com NONSGML v1.0//EN
CALSCALE:GREGORIAN
METHOD:PUBLISH
BEGIN:VEVENT
UID:69e8175c7d815
DTSTAMP:20260422T003332Z
DTSTART:20250727T050000Z
DTEND:20250727T085000Z
LOCATION:
SUMMARY:Beneixama Rock
DESCRIPTION:BENEIXAMA ROCK 26 de julio\,  sábado Hora: 21.00h Lugar: Benei
 xama Entrada libe Beneixama Rock prepara su edición de 2025 con un cartel
  realmente atractivo\,  ¡va a llenar el recinto de la piscina municipal de
  Beneixama de los mejores sonidos y canciones! Encabeza el cartel la band
 a Trashtucada\,  un grupo directo y energético nacido en[..]\nhttps://que
 fas.es/events/beneixama-rock/
URL:https://quefas.es/events/beneixama-rock/
END:VEVENT
END:VCALENDAR