BEGIN:VCALENDAR
VERSION:2.0
PRODID:-//eventon.com NONSGML v1.0//EN
CALSCALE:GREGORIAN
METHOD:PUBLISH
BEGIN:VEVENT
UID:69e5f0c56871e
DTSTAMP:20260420T092421Z
DTSTART:20260301T070000Z
DTEND:20260301T095500Z
LOCATION:
SUMMARY:Autoramas
DESCRIPTION:Autoramas Día: 28 de febrero\,  sábado Hora: 21.00h Lugar: TN
 T Blues (Cox) Entradas: 15€ COMPRAR Autoramas es probablemente la banda m
 ás importante de la escena musical independiente brasileña. Desde su form
 ación en Rio de Janeiro en 1997\,  han publicado 9 discos y realizado gira
 s en un total de 23 países[..]\nhttps://quefas.es/events/tnt-concierto-cox
 /
URL:https://quefas.es/events/tnt-concierto-cox/
END:VEVENT
END:VCALENDAR