BEGIN:VCALENDAR
VERSION:2.0
PRODID:-//eventon.com NONSGML v1.0//EN
CALSCALE:GREGORIAN
METHOD:PUBLISH
BEGIN:VEVENT
UID:69e4df7c67ed6
DTSTAMP:20260419T135820Z
DTSTART:20250802T053000Z
DTEND:20250802T073000Z
LOCATION:
SUMMARY:Aspe Summer FEST 2025
DESCRIPTION:El compromiso con la escena musical local se renueva este veran
 o con el nacimiento del Aspe Summer Fest\,  una propuesta fresca que da con
 tinuidad al espíritu del ya consolidado Aspesuena\,  pero con un enfoque c
 laro: poner en valor el talento de casa. El próximo viernes 1 de agosto\, 
  el emblemático[..]\nhttps://quefas.es/events/aspe-summer-fest-2025/
URL:https://quefas.es/events/aspe-summer-fest-2025/
END:VEVENT
END:VCALENDAR