BEGIN:VCALENDAR
VERSION:2.0
PRODID:-//eventon.com NONSGML v1.0//EN
CALSCALE:GREGORIAN
METHOD:PUBLISH
BEGIN:VEVENT
UID:69e64966c5159
DTSTAMP:20260420T154230Z
DTSTART:20250806T070000Z
DTEND:20250806T085000Z
LOCATION:
SUMMARY:Cine al aire libre en Benissa
DESCRIPTION:Este año\,  el cine en la calle y junto al mar vuelve con una 
 selección de películas para todos los gustos. Entre los títulos programa
 dos figuran: Padre no hay más que uno 4 (5 de agosto) Del revés 2 (12 de 
 agosto) Aquaman y el Reino Perdido (14 de agosto)[..]\nhttps://quefas.es/ev
 ents/cine-al-aire-libre-en-benissa/
URL:https://quefas.es/events/cine-al-aire-libre-en-benissa/
END:VEVENT
END:VCALENDAR