BEGIN:VCALENDAR
VERSION:2.0
PRODID:-//eventon.com NONSGML v1.0//EN
CALSCALE:GREGORIAN
METHOD:PUBLISH
BEGIN:VEVENT
UID:69e696f7ea88a
DTSTAMP:20260420T211327Z
DTSTART:20260415T200000Z
DTEND:20260415T220000Z
LOCATION:
SUMMARY:Texto sentido
DESCRIPTION:✏️ Curso de escritura En la librería Fahrenheit\,  los mi
 rcoles\,  de 11:00 _ 13:00 Inscripción obligatoria👛Costo de todo el cu
 rso:&nbsp;€60 hasta el 14 septiembre€80 a partir del 15 septiembre (Te 
 puedes apuntar a lecciones sueltas\,  aunque no es recomendado\,  por €20
  cada una) 📰 por razones logísticas este trimestre no[..]\nhttps://quef
 as.es/events/texto-sentido-fahrenheit/
URL:https://quefas.es/events/texto-sentido-fahrenheit/
END:VEVENT
END:VCALENDAR