BEGIN:VCALENDAR
VERSION:2.0
PRODID:-//eventon.com NONSGML v1.0//EN
CALSCALE:GREGORIAN
METHOD:PUBLISH
BEGIN:VEVENT
UID:69e57591a08d8
DTSTAMP:20260420T003841Z
DTSTART:20260214T030000Z
DTEND:20260214T050000Z
LOCATION:
SUMMARY:Conversa en valencià
DESCRIPTION:Conversa en valencià\,  en la AVV CarolinesBaixes(C/ Olózaga\
 ,  12)Divendres de 17:00h a 19:00h\nhttps://quefas.es/events/conversa-en-va
 lencia-2/
URL:https://quefas.es/events/conversa-en-valencia-2/
END:VEVENT
END:VCALENDAR