BEGIN:VCALENDAR
VERSION:2.0
PRODID:-//eventon.com NONSGML v1.0//EN
CALSCALE:GREGORIAN
METHOD:PUBLISH
BEGIN:VEVENT
UID:69ea55c927624
DTSTAMP:20260423T172425Z
DTSTART:20260425T023000Z
DTEND:20260425T033000Z
LOCATION:
SUMMARY:Taller de músicas gráficas
DESCRIPTION:TALLER DE MÚSICAS GRÁFICAS.&nbsp;Línea para una música sost
 enida.Viernes 24 de abril a las 17.30 horas. Inscripción&nbsp;AQUÍ Un lab
 oratorio de creación gráfica y musical\,  para todo tipo de edades y nive
 les. No es necesaria formación previa\,  pero sí tener interés por el so
 nido\,  el dibujo\,  y la experimentación con esas disciplinas.[..]\nhttps
 ://quefas.es/events/taller-de-musicas-graficas/
URL:https://quefas.es/events/taller-de-musicas-graficas/
END:VEVENT
END:VCALENDAR