BEGIN:VCALENDAR
VERSION:2.0
PRODID:-//eventon.com NONSGML v1.0//EN
CALSCALE:GREGORIAN
METHOD:PUBLISH
BEGIN:VEVENT
UID:69ea99a5c7518
DTSTAMP:20260423T221357Z
DTSTART:20260423T023000Z
DTEND:20260423T033000Z
LOCATION:
SUMMARY:Anem A la Biblio - Virgen del Remedio
DESCRIPTION:Taller arte natura: crea tu propio separador botánico día del
  libro – TALLER – 7 de abril\,  martes – 11:30h – Biblioteca Virge
 n del Remedio (Alicante) – +8 – Entrada con inscripción previa. Recita
 l de guitarra clásica – MÚSICA – 22 de abril\,  miércoles – 17:30
 h – Biblioteca Virgen del Remedio (Alicante)[..]\nhttps://quefas.es/event
 s/anem-a-la-biblio-virgen-del-remedio/
URL:https://quefas.es/events/anem-a-la-biblio-virgen-del-remedio/
END:VEVENT
END:VCALENDAR