BEGIN:VCALENDAR
VERSION:2.0
PRODID:-//eventon.com NONSGML v1.0//EN
CALSCALE:GREGORIAN
METHOD:PUBLISH
BEGIN:VEVENT
UID:69ea99ec20d4f
DTSTAMP:20260423T221508Z
DTSTART:20260422T023000Z
DTEND:20260422T033000Z
LOCATION:
SUMMARY:Anem a la Biblio - Villafranqueza
DESCRIPTION:Cuentos con corazÃ³nÂ â€“ LETRAS â€“ 21 de abril\,  martes â€“ 
 17:30h â€“ Biblioteca Villafranqueza (Alicante) â€“ +3 â€“ Entrada con insc
 ripciÃ³n previa. PrÃ³ximamente: Recital de guitarra clÃ¡sicaÂ â€“ MÃšSICA â
 €“ 13 de mayo\,  miÃ©rcoles â€“ 17:30h â€“ Biblioteca Villafranqueza (Alica
 nte) â€“ +6 â€“ Entrada con inscripciÃ³n previa. MÃ¡s informaciÃ³n de Cultu
 ra[..]\nhttps://quefas.es/events/anem-a-la-biblio-villafranqueza/
URL:https://quefas.es/events/anem-a-la-biblio-villafranqueza/
END:VEVENT
END:VCALENDAR