BEGIN:VCALENDAR
VERSION:2.0
PRODID:-//eventon.com NONSGML v1.0//EN
CALSCALE:GREGORIAN
METHOD:PUBLISH
BEGIN:VEVENT
UID:69e9d80d0f9d1
DTSTAMP:20260423T082757Z
DTSTART:20260423T040000Z
DTEND:20260423T060000Z
LOCATION:
SUMMARY: II Concurso de Rap de InteractUA
DESCRIPTION:El Rincón de los Poetas del campus de la Universidad de Alican
 te acogerá el próximo miércoles 22\,  de 19:00 a 21:00 horas\,  el conci
 erto final del&nbsp;II Concurso de Rap de la plataforma InteractUA. La cita
  reunirá sobre el escenario a los finalistas de esta edición junto a la a
 ctuación especial[..]\nhttps://quefas.es/events/i-concurso-de-rap-de-inter
 actua/
URL:https://quefas.es/events/i-concurso-de-rap-de-interactua/
END:VEVENT
END:VCALENDAR