BEGIN:VCALENDAR
VERSION:2.0
PRODID:-//eventon.com NONSGML v1.0//EN
CALSCALE:GREGORIAN
METHOD:PUBLISH
BEGIN:VEVENT
UID:69e6b332c33bc
DTSTAMP:20260420T231354Z
DTSTART:20251003T190000Z
DTEND:20251004T073000Z
LOCATION:
SUMMARY:Alicante Gastronómica
DESCRIPTION:La feria experiencial más importante del arco mediterráneo vu
 elve a IFA con una edición que promete superar todas las expectativas. Ali
 cante Gastronómica 2025\,  bajo el lema “Alma Mediterránea”\,  abrir
  sus puertas del 03 al 06 de octubre\,  convirtiéndose en el punto de enc
 uentro para profesionales\,  amantes de la cocina y[..]\nhttps://quefas.es/
 events/alicante-gastronomica/
URL:https://quefas.es/events/alicante-gastronomica/
END:VEVENT
END:VCALENDAR