BEGIN:VCALENDAR
VERSION:2.0
PRODID:-//eventon.com NONSGML v1.0//EN
CALSCALE:GREGORIAN
METHOD:PUBLISH
BEGIN:VEVENT
UID:69e753eaf357f
DTSTAMP:20260421T103938Z
DTSTART:20260425T020000Z
DTEND:20260425T045000Z
LOCATION:
SUMMARY:Repair café
DESCRIPTION:Nueva cita con Cafe Reapair. 24 de abril a las 17.00 h. Encuent
 ro para aprender a reparar pequeños aparatos domésticos de uso cotidiano 
 y poder darles una segunda vida. Gratuito. Información e inscripciones en
  asociacionmakeralicante@gmail.com Espacio MakerCig de Las Cigarreras Orga
 niza Asociación Maker Alicante | @alcntcaferepair\nhttps://quefas.es/ev
 ents/repair-cafe/
URL:https://quefas.es/events/repair-cafe/
END:VEVENT
END:VCALENDAR