BEGIN:VCALENDAR
VERSION:2.0
PRODID:-//eventon.com NONSGML v1.0//EN
CALSCALE:GREGORIAN
METHOD:PUBLISH
BEGIN:VEVENT
UID:69e6534a8e81f
DTSTAMP:20260420T162442Z
DTSTART:20251018T040000Z
DTEND:20251018T060000Z
LOCATION:
SUMMARY:Club de debate: Pensamiento crítico
DESCRIPTION:Zetta-Reddast PENSAMIENTO CRÍTICO: “Sapere aude” Immanuel 
 Kant. Club de debate Islandia\,  otra mirada / Zetta-Reddast es una idea qu
 e durante dos años ha sido muy interesante para debatir los modelos island
 és y español. Para conocer dos realidades tan interesantes. Pero es el mo
 mento de cerrar esta etapa y debemos evolucionar.[..]\nhttps://quefas.es/ev
 ents/club-de-debate-pensamiento-critico/
URL:https://quefas.es/events/club-de-debate-pensamiento-critico/
END:VEVENT
END:VCALENDAR