BEGIN:VCALENDAR
VERSION:2.0
PRODID:-//eventon.com NONSGML v1.0//EN
CALSCALE:GREGORIAN
METHOD:PUBLISH
BEGIN:VEVENT
UID:69e902ae2b996
DTSTAMP:20260422T171734Z
DTSTART:20250809T190000Z
DTEND:20250809T235500Z
LOCATION:
SUMMARY:MUSIC IN THE GARDEN
DESCRIPTION:Music in the Garden 2025 - Iván Ferreiro\,  ELYELLA y Ultralig
 era Día: 09 de agosto\,  sábado Hora: 19.00h Lugar: Jardines de Abril Con
 sigue entradas desde 40€ El 9 de agosto de 2025 desde las 19:00h\,  los J
 ardines de Abril se convierten en un auténtico oasis musical con Music in 
 the[..]\nhttps://quefas.es/events/music-in-the-garden/
URL:https://quefas.es/events/music-in-the-garden/
END:VEVENT
END:VCALENDAR