BEGIN:VCALENDAR
VERSION:2.0
PRODID:-//eventon.com NONSGML v1.0//EN
CALSCALE:GREGORIAN
METHOD:PUBLISH
BEGIN:VEVENT
UID:69e7cf43b4f05
DTSTAMP:20260421T192555Z
DTSTART:20250509T103000Z
DTEND:20250509T235000Z
LOCATION:
SUMMARY:MURALES DE SAN ISIDRO
DESCRIPTION:Del 9 al 11 de mayo\,  el barrio de San Isidro de Orihuela se t
 ransformará una vez más en un vibrante museo al aire libre gracias a la X
 I edición de los Murales de San Isidro\,  un evento que celebra la fuerza 
 del arte urbano\,  el legado cultural de las[..]\nhttps://quefas.es/events/
 murales-de-san-isidro/
URL:https://quefas.es/events/murales-de-san-isidro/
END:VEVENT
END:VCALENDAR