BEGIN:VCALENDAR
VERSION:2.0
PRODID:-//eventon.com NONSGML v1.0//EN
CALSCALE:GREGORIAN
METHOD:PUBLISH
BEGIN:VEVENT
UID:69e4d8705cf7b
DTSTAMP:20260419T132816Z
DTSTART:20260425T023000Z
DTEND:20260425T033000Z
LOCATION:
SUMMARY:El cielo está retahilado
DESCRIPTION:El cielo está retahilado Día: Viernes\,  24 de abril Hora: 17
 :30 horas SALA INFANTIL - BIBLIOTECA CUENTOS de Alberto Celdrán +1 Inscrip
 ción previa 965632124 Un espectáculo de narración oral creado para la pr
 imera infancia donde contar\,  cantar\,  rimar y retahilar se convierte en 
 un juego de palabras para toda la[..]\nhttps://quefas.es/events/cuentos-bib
 lioteca-el-campello/
URL:https://quefas.es/events/cuentos-biblioteca-el-campello/
END:VEVENT
END:VCALENDAR