BEGIN:VCALENDAR
VERSION:2.0
PRODID:-//eventon.com NONSGML v1.0//EN
CALSCALE:GREGORIAN
METHOD:PUBLISH
BEGIN:VEVENT
UID:69e84eef101d0
DTSTAMP:20260422T043039Z
DTSTART:20260502T020000Z
DTEND:20260502T085000Z
LOCATION:
SUMMARY:Warm Up 2026
DESCRIPTION:El WARM UP Estrella de Levante 2026 ya ha puesto en marcha la m
 aquinaria festivalera con un primer avance de cartel que confirma por qué 
 el evento murciano sigue siendo una de las grandes citas de la música alte
 rnativa y electrónica en España. El festival celebrará su próxima edici
 ón los[..]\nhttps://quefas.es/events/warm-up-2026/
URL:https://quefas.es/events/warm-up-2026/
END:VEVENT
END:VCALENDAR