BEGIN:VCALENDAR
VERSION:2.0
PRODID:-//eventon.com NONSGML v1.0//EN
CALSCALE:GREGORIAN
METHOD:PUBLISH
BEGIN:VEVENT
UID:69e575be1ffa2
DTSTAMP:20260420T003926Z
DTSTART:20260209T180000Z
DTEND:20260209T200000Z
LOCATION:
SUMMARY:Asamblea del Sindicat Barri Carolines
DESCRIPTION:Assemblea del Sindicat de Barri de Carolines(C/ Antonio Maura\,
   5) Lunes a las 18:00h No pots pagar la hipoteca o el lloguer? No et volen
  renovar? Et volen tirar de casa? Apropa’t qualsevol dilluns a les 18h a 
 l’Ateneu Popular del Pla-Carolines (C/ Antonio Maura\,  5) i informa't qu
 è pots[..]\nhttps://quefas.es/events/asamblea-del-sindicat-barri-carolines
 /
URL:https://quefas.es/events/asamblea-del-sindicat-barri-carolines/
END:VEVENT
END:VCALENDAR