BEGIN:VCALENDAR
VERSION:2.0
PRODID:-//eventon.com NONSGML v1.0//EN
CALSCALE:GREGORIAN
METHOD:PUBLISH
BEGIN:VEVENT
UID:69e575b411ee8
DTSTAMP:20260420T003916Z
DTSTART:20260210T183000Z
DTEND:20260210T193000Z
LOCATION:
SUMMARY:taller de iniciación a la guitarra
DESCRIPTION:Taller gratuito de iniciación a la guitarra\,  en AVV Caroline
 s Baixes "Les Palmeretes"(C/ Olózaga\,  12) Martes de 18:30h a 19:30h Clas
 es de iniciación a la guitarra a cargo del fantástico Félix Campillo. Da
 te prisa porque tiene plazas limitadas y siempre está muy cotizado. Si ere
 s socio/a de la AVV tienes[..]\nhttps://quefas.es/events/taller-de-iniciaci
 on-a-la-guitarra/
URL:https://quefas.es/events/taller-de-iniciacion-a-la-guitarra/
END:VEVENT
END:VCALENDAR