BEGIN:VCALENDAR
VERSION:2.0
PRODID:-//eventon.com NONSGML v1.0//EN
CALSCALE:GREGORIAN
METHOD:PUBLISH
BEGIN:VEVENT
UID:69eace37f0c48
DTSTAMP:20260424T015815Z
DTSTART:20260419T070000Z
DTEND:20260419T085500Z
LOCATION:
SUMMARY:FYSC
DESCRIPTION:FYSC Día. 18 de abril\,  sábado Hora: 22.00h Lugar: El Paso (
 Torrevieja) Entrada: 6€ Get Back regresa acompañado de Lucas Saxo\,  sum
 ando ese toque explosivo que convierte el concierto en El Paso Bar en algo 
 único � 641 32 55 03\nhttps://quefas.es/events/concierto-el-paso-torrevi
 eja/
URL:https://quefas.es/events/concierto-el-paso-torrevieja/
END:VEVENT
END:VCALENDAR