BEGIN:VCALENDAR
VERSION:2.0
PRODID:-//eventon.com NONSGML v1.0//EN
CALSCALE:GREGORIAN
METHOD:PUBLISH
BEGIN:VEVENT
UID:69e81700aa3c8
DTSTAMP:20260422T003200Z
DTSTART:20240525T100000Z
DTEND:20240525T140000Z
LOCATION:
SUMMARY:JORNADAS MIGRANTES
DESCRIPTION:Fecha: 25 y 26 mayo de 2024 Hora: de 10:00 a 14:00 horas Luga
 r: Espai Àfrica dentro de Alacant Desperta el 25 de mayo de 18:00 a 20:00 
 horas Playa del Llevant de Santa Pola el 26 de mayo de 11:30 a 14:00 horas 
 Organiza: Bea Millón Para Todos los públicos Actividad gratuita[..]\nhtt
 ps://quefas.es/events/jornadas-migrantes/
URL:https://quefas.es/events/jornadas-migrantes/
END:VEVENT
END:VCALENDAR