BEGIN:VCALENDAR
VERSION:2.0
PRODID:-//eventon.com NONSGML v1.0//EN
CALSCALE:GREGORIAN
METHOD:PUBLISH
BEGIN:VEVENT
UID:69e99abb431b3
DTSTAMP:20260423T040619Z
DTSTART:20260404T023000Z
DTEND:20260404T085000Z
LOCATION:
SUMMARY:Costa Sonora
DESCRIPTION:Alicante volverá a situarse en el mapa estatal de la música u
 rbana con la celebración de la segunda edición de&nbsp;Costa Sonora\,  un
  festival que regresa los días&nbsp;3 y 4 de abril de 2026&nbsp;y que se p
 erfila como la&nbsp;primera gran cita urbana de la temporada&nbsp;en Españ
 a. Con más de&nbsp;treinta artistas&nbsp;confirmados entre[..]\nhttps://qu
 efas.es/events/costa-sonora/
URL:https://quefas.es/events/costa-sonora/
END:VEVENT
END:VCALENDAR