BEGIN:VCALENDAR
VERSION:2.0
PRODID:-//eventon.com NONSGML v1.0//EN
CALSCALE:GREGORIAN
METHOD:PUBLISH
BEGIN:VEVENT
UID:69e696e3e9fce
DTSTAMP:20260420T211307Z
DTSTART:20260314T070000Z
DTEND:20260314T085000Z
LOCATION:
SUMMARY:La Perra Blanco
DESCRIPTION:LA PERRA BLANCO EL 13 DE MARZO EN LA SALA STEREO (ALICANTE) Dí
 a: 13 de marzo Hora. 22.00h Lugar: Stereo Alicante Entradas: 18€ COMPRAR 
 Tras el impacto de su último trabajo “Get It Out” – con el que la ba
 nda firmó cerca de 90 conciertos en una gira arrolladora-\, &nbsp;La Perra
 [..]\nhttps://quefas.es/events/stereo-alicante-top/
URL:https://quefas.es/events/stereo-alicante-top/
END:VEVENT
END:VCALENDAR