BEGIN:VCALENDAR
VERSION:2.0
PRODID:-//eventon.com NONSGML v1.0//EN
CALSCALE:GREGORIAN
METHOD:PUBLISH
BEGIN:VEVENT
UID:69e8170ab4087
DTSTAMP:20260422T003210Z
DTSTART:20240522T190000Z
DTEND:20240522T213000Z
LOCATION:
SUMMARY:XVI Mayo Negro
DESCRIPTION:Del 22 al 25 de mayo\,  se celebra la&nbsp;XVI EDICIÓN MAYO NE
 GRO. EN LA COSTA DEL CRIMEN. Toda la programación tendrá lugar en la Sala
  Rafael Altamira. Sede Universitaria Ciudad de Alicante (C/ Ramón y Cajal\
 ,  4) Miércoles 22 de mayo de 2024 19.00 h. Inauguración a cargo de Maria
 no[..]\nhttps://quefas.es/events/xvi-mayo-negro/
URL:https://quefas.es/events/xvi-mayo-negro/
END:VEVENT
END:VCALENDAR