BEGIN:VCALENDAR
VERSION:2.0
PRODID:-//eventon.com NONSGML v1.0//EN
CALSCALE:GREGORIAN
METHOD:PUBLISH
BEGIN:VEVENT
UID:69e653831c343
DTSTAMP:20260420T162539Z
DTSTART:20260425T203000Z
DTEND:20260425T233000Z
LOCATION:
SUMMARY:Laboratorios de letras e imágenes.
DESCRIPTION:LABORATORIO DE LETRAS E IMÁGENESSábado 25 de abril a las 11.3
 0 y 13 horas horas. Inscripción AQUÍ¡Un banquete!” (Día del Libro). 
 Celebramos el placer de leer compartiendo historias como si fueran un gran 
 festín\,  degustando libros variados y disfrutando de la lectura como una 
 fiesta colectiva.Coordinación de la actividad: Va de Cuentos[..]\nhttps:/
 /quefas.es/events/laboratorios-de-letras-e-imagenes/
URL:https://quefas.es/events/laboratorios-de-letras-e-imagenes/
END:VEVENT
END:VCALENDAR