BEGIN:VCALENDAR
VERSION:2.0
PRODID:-//eventon.com NONSGML v1.0//EN
CALSCALE:GREGORIAN
METHOD:PUBLISH
BEGIN:VEVENT
UID:69e4df9fd9314
DTSTAMP:20260419T135855Z
DTSTART:20260419T043000Z
DTEND:20260419T063000Z
LOCATION:
SUMMARY:Tony & The Rockheavyllies
DESCRIPTION:Tony & The Rockheavyllies Día: 18 de abril\,  sábado Hora: 19
 .30h Lugar: Daytona (Elda) COVERS Entrada libre con consumición\nhttps://q
 uefas.es/events/sabado-en-daytona/
URL:https://quefas.es/events/sabado-en-daytona/
END:VEVENT
END:VCALENDAR