BEGIN:VCALENDAR
VERSION:2.0
PRODID:-//eventon.com NONSGML v1.0//EN
CALSCALE:GREGORIAN
METHOD:PUBLISH
BEGIN:VEVENT
UID:69ea562b160e5
DTSTAMP:20260423T172603Z
DTSTART:20260425T030000Z
DTEND:20260425T043000Z
LOCATION:
SUMMARY:El bosque de Grimm
DESCRIPTION:TOCA LA MÚSICA “EL BOSQUE DE GRIMM”. Espectáculo inspirad
 o en cuentos popularesADDA·SIMFÒNICA ALICANTELAMAQUINÉHéctor Eliel Már
 quez\,  director invitado 24 ABRIL 2026 / 18:00h Comprar entrada La Maquin
  presenta El bosque de Grimm\,  un espectáculo visual y musical inspirado
  en la atmósfera de los cuentos de hadas de los hermanos Grimm: Caperucita
 [..]\nhttps://quefas.es/events/nenicxs-adda/
URL:https://quefas.es/events/nenicxs-adda/
END:VEVENT
END:VCALENDAR