BEGIN:VCALENDAR
VERSION:2.0
PRODID:-//eventon.com NONSGML v1.0//EN
CALSCALE:GREGORIAN
METHOD:PUBLISH
BEGIN:VEVENT
UID:69ea569915fc4
DTSTAMP:20260423T172753Z
DTSTART:20260118T180000Z
DTEND:20260119T003000Z
LOCATION:
SUMMARY:De senderismo
DESCRIPTION:El Campello impulsa el senderismo familiar con seis rutas por l
 a provincia de Alicante La Concejalía de Deportes del Ayuntamiento de El C
 ampello ha organizado un nuevo programa de rutas de senderismo familiar que
  recorrerá algunos de los parajes naturales más emblemáticos de la provi
 ncia de Alicante entre los meses[..]\nhttps://quefas.es/events/de-senderism
 o/
URL:https://quefas.es/events/de-senderismo/
END:VEVENT
END:VCALENDAR