BEGIN:VCALENDAR
VERSION:2.0
PRODID:-//eventon.com NONSGML v1.0//EN
CALSCALE:GREGORIAN
METHOD:PUBLISH
BEGIN:VEVENT
UID:69e666995828f
DTSTAMP:20260420T174705Z
DTSTART:20260327T193000Z
DTEND:20260327T203000Z
LOCATION:
SUMMARY:Feriantes
DESCRIPTION:FERIANTES de EL PATIO TEATRO i CENTRO DRAMÁTICO NACIONAL 27 ma
 rzo de 2026 Horarios: Viernes: 19:30 h. Teatre Arniches Precios: Entrada:
  10 adultos / 4 niños Comprar Notas:&nbsp;Edat: A partir de 12 anys. Durac
 ió: 60 min Millor Espectacle de Teatre Documental (FETEN Gijón\,  2025) P
 remi Drac d'Or a la Millor Escenografia -[..]\nhttps://quefas.es/events/per
 -a-tots-arniches/
URL:https://quefas.es/events/per-a-tots-arniches/
END:VEVENT
END:VCALENDAR