BEGIN:VCALENDAR
VERSION:2.0
PRODID:-//eventon.com NONSGML v1.0//EN
CALSCALE:GREGORIAN
METHOD:PUBLISH
BEGIN:VEVENT
UID:69e70a1c2e8dc
DTSTAMP:20260421T052444Z
DTSTART:20260415T040000Z
DTEND:20260415T050000Z
LOCATION:
SUMMARY:14 de abril\,  por la República de la Clase trabajadora
DESCRIPTION:14 de abril\,  por la República de la Clase trabajadora\nhttps
 ://quefas.es/events/manifestacion-alicante-mer/
URL:https://quefas.es/events/manifestacion-alicante-mer/
END:VEVENT
END:VCALENDAR