BEGIN:VCALENDAR
VERSION:2.0
PRODID:-//eventon.com NONSGML v1.0//EN
CALSCALE:GREGORIAN
METHOD:PUBLISH
BEGIN:VEVENT
UID:69e71b09b7084
DTSTAMP:20260421T063657Z
DTSTART:20240528T200000Z
DTEND:20240528T213000Z
LOCATION:
SUMMARY:QUADERNS D'ANTROPOLOGIA-ETNOGRAFIA-HISTÒRIA. CREVILLENT\,  L'ETNOGRAFIA D'UN POBLE. VOLUM 6.
DESCRIPTION:MARTES 28 DE MAYO 20.00h CASA DE CULTURA MUNICIPAL “JOSÉ CAN
 DELA LLEDÓ”/SALÓN DE ACTOS. PRESENTACIÓN LIBRO ENTRADA LIBRE HASTA COM
 PLETAR AFORO CUADERNOS DE ANTROPOLOGÍA-ETNOGRAFÍA-HISTORIA. CREVILLENT\, 
  LA ETNOGRAFÍA DE UN PUEBLO. VOLUMEN 6. PÚBLICO ADULTO La revista “Quad
 erns d’Antropologia-Etnografia-Història. Crevillent\,  l’etnografia d
 un poble”\,  editada desde el área de cultura del Ayuntamiento[..]\nht
 tps://quefas.es/events/quaderns-dantropologia-etnografia-historia-crevillen
 t-letnografia-dun-poble-volum-6/
URL:https://quefas.es/events/quaderns-dantropologia-etnografia-historia-crevillent-letnografia-dun-poble-volum-6/
END:VEVENT
END:VCALENDAR