BEGIN:VCALENDAR
VERSION:2.0
PRODID:-//eventon.com NONSGML v1.0//EN
CALSCALE:GREGORIAN
METHOD:PUBLISH
BEGIN:VEVENT
UID:69e51fe7043aa
DTSTAMP:20260419T183311Z
DTSTART:20240601T200000Z
DTEND:20240601T213000Z
LOCATION:
SUMMARY:L´ESPART EN LA PINTURA
DESCRIPTION:CONFERENCIA “EL ESPARTO EN LA PINTURA” POR CONXA GUILABERT 
 FAJARDO 01 de junio\,  sábado 20.00H Casa de Cultura de Crevillente CONFER
 ENCIA “EL ESPARTO EN LA PINTURA” POR CONXA GUILABERT FAJARDO\nhttps://q
 uefas.es/events/lespart-en-la-pintura/
URL:https://quefas.es/events/lespart-en-la-pintura/
END:VEVENT
END:VCALENDAR