BEGIN:VCALENDAR
VERSION:2.0
PRODID:-//eventon.com NONSGML v1.0//EN
CALSCALE:GREGORIAN
METHOD:PUBLISH
BEGIN:VEVENT
UID:69e52eaf6c124
DTSTAMP:20260419T193615Z
DTSTART:20260316T033000Z
DTEND:20260316T050000Z
LOCATION:
SUMMARY:Madre Mía - HUMOR con Ismael Lemais e Isita Díaz
DESCRIPTION:Madre Mía - Día: 15 de marzo\,  domingo Hora: 18.30h Lugar: A
 uditorio de VIllajoyosa HUMOR con Ismael Lemais e Isita Díaz Entradas: 18
  COMPRAR Con su anterior espectáculo &nbsp;”Cómo conocí a mi suegra
  Ismael e Isa han llevado sus &nbsp;andanzas domésticas y de pareja por 
 teatros de toda España. Nos[..]\nhttps://quefas.es/events/teatro-villajoyo
 sa-2/
URL:https://quefas.es/events/teatro-villajoyosa-2/
END:VEVENT
END:VCALENDAR